BEGIN:VCALENDAR
VERSION:2.0
PRODID:-//Kendall&#039;s Kindness - ECPv6.15.20//NONSGML v1.0//EN
CALSCALE:GREGORIAN
METHOD:PUBLISH
X-ORIGINAL-URL:https://kendallskindness.com
X-WR-CALDESC:Events for Kendall&#039;s Kindness
REFRESH-INTERVAL;VALUE=DURATION:PT1H
X-Robots-Tag:noindex
X-PUBLISHED-TTL:PT1H
BEGIN:VTIMEZONE
TZID:America/Chicago
BEGIN:DAYLIGHT
TZOFFSETFROM:-0600
TZOFFSETTO:-0500
TZNAME:CDT
DTSTART:20230312T080000
END:DAYLIGHT
BEGIN:STANDARD
TZOFFSETFROM:-0500
TZOFFSETTO:-0600
TZNAME:CST
DTSTART:20231105T070000
END:STANDARD
BEGIN:DAYLIGHT
TZOFFSETFROM:-0600
TZOFFSETTO:-0500
TZNAME:CDT
DTSTART:20240310T080000
END:DAYLIGHT
BEGIN:STANDARD
TZOFFSETFROM:-0500
TZOFFSETTO:-0600
TZNAME:CST
DTSTART:20241103T070000
END:STANDARD
BEGIN:DAYLIGHT
TZOFFSETFROM:-0600
TZOFFSETTO:-0500
TZNAME:CDT
DTSTART:20250309T080000
END:DAYLIGHT
BEGIN:STANDARD
TZOFFSETFROM:-0500
TZOFFSETTO:-0600
TZNAME:CST
DTSTART:20251102T070000
END:STANDARD
END:VTIMEZONE
BEGIN:VEVENT
DTSTART;TZID=America/Chicago:20240213T130000
DTEND;TZID=America/Chicago:20240213T153000
DTSTAMP:20260424T103534
CREATED:20240123T202607Z
LAST-MODIFIED:20240202T002619Z
UID:10000010-1707829200-1707838200@kendallskindness.com
SUMMARY:Random Acts Matter and Kendall's Kindness at the Northern Illinois Food Bank
DESCRIPTION:  \nPlease join us on Tuesday\, February 13th from 1:00 pm – 3:00 pm at the Northern Illinois Food Bank in Geneva\, Illinois. \nWe have reserved 40 slots under the Random Acts Matter and Kendall’s Kindness Team. \nPlease click on the link below and reserve under our team name or the slots will appear as full. \nhttps://www.volunteer-northernilfoodbank.org/need/detail/?need_id=661328 \nThank you for helping us support Random Acts of Kindness Week!
URL:https://kendallskindness.com/event/random-acts-matter-and-kendalls-kindness-at-the-northern-illinois-food-bank
LOCATION:Northern Illinois Food Bank\, 273 Dearborn Court\, Geneva\, 60134\, United States
END:VEVENT
END:VCALENDAR