BEGIN:VCALENDAR
VERSION:2.0
PRODID:-//Kendall&#039;s Kindness - ECPv6.15.20//NONSGML v1.0//EN
CALSCALE:GREGORIAN
METHOD:PUBLISH
X-ORIGINAL-URL:https://kendallskindness.com
X-WR-CALDESC:Events for Kendall&#039;s Kindness
REFRESH-INTERVAL;VALUE=DURATION:PT1H
X-Robots-Tag:noindex
X-PUBLISHED-TTL:PT1H
BEGIN:VTIMEZONE
TZID:America/Chicago
BEGIN:DAYLIGHT
TZOFFSETFROM:-0600
TZOFFSETTO:-0500
TZNAME:CDT
DTSTART:20230312T080000
END:DAYLIGHT
BEGIN:STANDARD
TZOFFSETFROM:-0500
TZOFFSETTO:-0600
TZNAME:CST
DTSTART:20231105T070000
END:STANDARD
BEGIN:DAYLIGHT
TZOFFSETFROM:-0600
TZOFFSETTO:-0500
TZNAME:CDT
DTSTART:20240310T080000
END:DAYLIGHT
BEGIN:STANDARD
TZOFFSETFROM:-0500
TZOFFSETTO:-0600
TZNAME:CST
DTSTART:20241103T070000
END:STANDARD
BEGIN:DAYLIGHT
TZOFFSETFROM:-0600
TZOFFSETTO:-0500
TZNAME:CDT
DTSTART:20250309T080000
END:DAYLIGHT
BEGIN:STANDARD
TZOFFSETFROM:-0500
TZOFFSETTO:-0600
TZNAME:CST
DTSTART:20251102T070000
END:STANDARD
END:VTIMEZONE
BEGIN:VEVENT
DTSTART;VALUE=DATE:20240501
DTEND;VALUE=DATE:20240601
DTSTAMP:20260423T073731
CREATED:20240221T174421Z
LAST-MODIFIED:20240310T181817Z
UID:10000012-1714521600-1717199999@kendallskindness.com
SUMMARY:Hope In Soap for Kendall's Kindness
DESCRIPTION:In honor of mental health awareness month\, Magnolia Soap And Bath Company will be donating ALL proceeds from this months Hope in Soap to the “Kendall’s Kindness Fund”. \nAll funds raised will be used to help fund mental health awareness and local suicide support groups.  Two $1\,000 scholarships have also been established with the Community Foundation of the Fox River Valley.   \nThese scholarships from The Kendall’s Kindness Scholarship Fund\, in memory of Kendall\, will be awarded yearly to two St. Charles North High School and/or St. Charles East High School students who will attend a four-year college and pursue a degree in Art.
URL:https://kendallskindness.com/event/hope-in-soap-for-kendalls-kindness
LOCATION:Magnolia Soap and Bath Company\, 1 Illinois Street #110\, St charles\, IL\, 60174\, United States
ATTACH;FMTTYPE=image/jpeg:https://kendallskindness.com/wp-content/uploads/2024/02/IMG_0330-e1710094686271.jpg
END:VEVENT
BEGIN:VEVENT
DTSTART;TZID=America/Chicago:20240519T110000
DTEND;TZID=America/Chicago:20240519T160000
DTSTAMP:20260423T073731
CREATED:20240123T191728Z
LAST-MODIFIED:20240424T190222Z
UID:10000007-1716116400-1716134400@kendallskindness.com
SUMMARY:Countryside Shop-N-Share Event supporting Kendall's Kindness
DESCRIPTION:Countryside Flower Shop\, Nursery & Garden Center and Kendall’s Kindness are teaming up on Sunday\, May 19th from 11:00 am – 4:00 pm for a Shop-N-Share Fundraiser.\n  \nThis event will be held at their Elburn and Crystal Lake locations.  Please Note: the attached forms must be printed out and handed to the cashier in order for Kendall’s Kindness to receive 18% of the pre-tax sale.  The nursery will not accept pictures on your phone and proceeds will not be funded:  \n  \nPlease click on the links below to print flyers for this shop and share event:   \nhttps://kendallskindness.com/wp-content/uploads/2024/04/Kendalls-Kindness-SPRING-ELBURN-Shop-N-Share-FORM-2024.pdf \nKendall Kindness Spring 2024 CL Shop N Share Form (1) \n 
URL:https://kendallskindness.com/event/countryside-shop-n-share-event-supporting-kendalls-kindness
LOCATION:Countryside Flower Shop\, Nursery & Garden Center\, 5301 Terra Cotta Ave\, Crystal Lake\, 60014\, United States
ATTACH;FMTTYPE=image/png:https://kendallskindness.com/wp-content/uploads/2024/01/Countryside-Flower-Shop-Nursery-Garden-Center-e1710093137426.png
END:VEVENT
END:VCALENDAR